{"text_format":"1","workbook":"xlsx","n_sheets":2,"sheets":["申込書","プログラム"],"not_rendered":{"charts":0,"images":4,"macros":1,"external_links":0,"defined_names":2,"comments":0,"pivot_tables":0},"unopened":[],"bounds":{"document_bytes":16777216,"sheet_cells":100000,"rows_first":2000,"rows_last":500,"rows_between":2000,"halvings":0,"cell_chars":16384,"cell_head_chars":4096},"cells_cut":0,"cells_raw":0,"read":"whole","date_system":"1900"}

{"sheet":"申込書","index":0,"n_rows":116,"n_cols":33,"rows_kept":116,"cut":false,"hidden":false,"merged":[[11,11,11,21],[9,3,9,8],[10,3,11,8],[8,3,8,4],[22,14,22,16],[21,14,21,16],[14,12,16,21],[10,13,10,15],[7,17,8,19],[9,9,9,10],[10,9,10,10],[11,9,11,10],[10,17,10,19],[21,17,21,20],[18,12,20,21],[13,4,13,8],[13,9,13,21],[14,6,14,10],[21,6,21,9],[21,11,21,13],[22,11,22,13],[22,17,22,20],[15,6,15,10],[5,16,6,16],[5,21,6,21],[5,17,6,19],[6,3,6,9],[7,3,7,9],[8,5,8,9],[5,10,6,10],[7,10,8,10],[5,11,6,11],[7,11,8,11],[7,16,8,16],[0,17,0,21],[0,1,0,16],[2,1,2,2],[3,8,4,9],[3,10,4,21],[3,3,4,7],[3,1,4,2],[5,13,6,15],[9,11,9,21],[5,1,5,2],[6,1,6,2],[8,1,8,2],[7,1,7,2],[5,3,5,9],[5,12,6,12],[7,12,8,12],[9,1,9,2],[1,1,1,21],[2,6,2,11],[2,3,2,5],[5,20,6,20],[7,13,8,15],[7,21,8,21],[7,20,8,20],[54,6,54,10],[29,17,29,20],[37,14,37,16],[54,11,54,14],[31,6,31,7],[37,17,37,20],[36,17,36,20],[35,17,35,20],[35,6,35,7],[44,1,44,21],[54,0,54,1],[36,4,36,5],[36,8,36,9],[37,8,37,9],[36,2,36,3],[37,6,37,7],[53,0,53,1],[36,6,36,7],[54,16,54,20],[35,8,35,9],[35,11,35,13],[35,14,35,16],[37,11,37,13],[45,2,45,3],[36,11,36,13],[32,11,32,13],[31,11,31,13],[27,11,27,13],[33,14,33,16],[32,14,32,16],[29,14,29,16],[24,17,24,20],[32,17,32,20],[31,17,31,20],[30,17,30,20],[29,11,29,13],[26,11,26,13],[25,11,25,13],[23,17,23,20],[28,17,28,20],[27,17,27,20],[26,17,26,20],[25,17,25,20],[36,14,36,16],[28,14,28,16],[34,14,34,16],[30,14,30,16],[31,14,31,16],[34,17,34,20],[26,14,26,16],[27,14,27,16],[23,14,23,16],[24,14,24,16],[25,14,25,16],[35,4,35,5],[32,8,32,9],[23,11,23,13],[30,11,30,13],[25,4,25,5],[22,2,22,3],[30,2,30,3],[30,6,30,7],[28,4,28,5],[28,6,28,7],[24,11,24,13],[32,2,32,3],[31,8,31,9],[31,2,31,3],[33,11,33,13],[34,6,34,7],[33,8,33,9],[34,8,34,9],[32,4,32,5],[32,6,32,7],[33,4,33,5],[34,11,34,13],[33,6,33,7],[34,4,34,5],[16,6,16,10],[23,8,23,9],[26,4,26,5],[26,2,26,3],[24,6,24,7],[27,4,27,5],[24,4,24,5],[26,6,26,7],[22,6,22,7],[24,2,24,3],[22,8,22,9],[26,8,26,9],[24,8,24,9],[25,2,25,3],[13,1,13,2],[14,1,14,2],[18,1,19,3],[10,1,11,2],[23,4,23,5],[22,4,22,5],[23,2,23,3],[21,2,21,5],[28,2,28,3],[27,2,27,3],[53,6,53,8],[53,9,53,20],[37,4,37,5],[16,1,16,2],[15,1,15,2],[33,17,33,20],[29,8,29,9],[37,2,37,3],[28,11,28,13],[23,6,23,7],[28,8,28,9],[35,2,35,3],[34,2,34,3],[33,2,33,3],[31,4,31,5],[27,6,27,7],[25,8,25,9],[25,6,25,7],[27,8,27,9],[30,8,30,9],[29,4,29,5],[29,2,29,3],[30,4,30,5],[29,6,29,7]]}
[null,"第６３回岡山県中学校総合体育大会ハンドボール競技申込用紙",null,null,null,null,null,null,null,null,null,null,null,null,null,null,null,"受付番号（　　）",null,null,null,null,null,null,null,null,null,{"$f":"D7","v":0},{"$f":"VLOOKUP(D7,K58:M68,2,FALSE)","v":{"$error":"#N/A"}},{"$f":"E14","v":0},{"$f":"G15","v":0},{"$f":"G16","v":0},{"$f":"G17","v":0}]
[]
[null,"種　別",null,null,null,null,{"$f":"IF(W3=1,\"男　子\",IF(W3=2,\"女　子\",\"\"))","v":"男　子"},null,null,null,null,null,null,null,null,null,null,null,null,null,null,null,1]
[null,null,null,null,null,null,null,null,null,null,null,null,null,null,null,null,null,null,null,null,null,null,null,null,"校名",{"$f":"D7","v":0}]
[null,null,null,null,null,null,null,null,null,null,null,null,null,null,null,null,null,null,null,null,null,null,null,null,"男子監督",{"$f":"E14","v":0},null,1,{"$f":"AB$1","v":0},{"$f":"AC$1","v":{"$error":"#N/A"}},{"$f":"C24&E24","v":""}]
[null,"フリガナ",null,null,null,null,null,null,null,null,"ＴＥＬ","（",null,"）-（",null,null,null,"）-（",null,null,null,"）",null,null,"Ｂ",{"$f":"G15","v":0},null,2,{"$f":"AB$1","v":0},{"$error":"#N/A"},{"$f":"C25&E25","v":""}]
[null,"チーム名",null,null,null,null,null,null,null,null,null,null,null,null,null,null,null,null,null,null,null,null,null,null,"Ｃ",{"$f":"G16","v":0},null,3,0,{"$error":"#N/A"},""]
[null,"フリガナ",null,null,null,null,null,null,null,null,"ＦＡＸ","（",null,"）-（",null,null,null,"）-（",null,null,null,"）",null,null,"Ｄ",{"$f":"G17","v":0},null,4,0,{"$error":"#N/A"},""]
[null,"チーム所在地",null,null,null,null,null,null,null,null,null,null,null,null,null,null,null,null,null,null,null,null,null,null,"ＣＰ①",{"$f":"G20","v":0},null,5,0,{"$error":"#N/A"},""]
[null,"フリガナ",null,null,null,null,null,null,null,"自宅住所",null,null,null,null,null,null,null,null,null,null,null,null,null,null,"ＣＰ②",{"$f":"I20","v":0},null,6,0,{"$error":"#N/A"},""]
[null,"引率責任者\n氏      名",null,null,null,null,null,null,null,"携帯電話",null,"（",null,"）-（",null,null,null,"）-（",null,null,null,"）",null,null,"ＣＰ③",{"$f":"K20","v":0},null,7,0,{"$error":"#N/A"},""]
[null,null,null,null,null,null,null,null,null,"メールアドレス",null,null,null,null,null,null,null,null,null,null,null,null,null,null,"ＧＫ①",{"$f":"G19","v":0},null,8,0,{"$error":"#N/A"},""]
[null,null,null,null,null,null,null,null,null,null,null,null,null,null,null,null,null,null,null,null,null,null,null,null,"ＧＫ②",{"$f":"I19","v":0},null,9,0,{"$error":"#N/A"},""]
[null,"監督",null,"氏名",null,null,null,null,null,"校長・教諭・部活動指導員（任命権者　   　　）",null,null,null,null,null,null,null,null,null,null,null,null,null,null,"ＧＫ③",{"$f":"K19","v":0},null,10,0,{"$error":"#N/A"},""]
[null,"役員",null,"職名",null,"氏名",null,null,null,null,null,null,"（注）引率責任者が監督、役員を\n      兼ねている場合も必ず記入\n      してください。",null,null,null,null,null,null,null,null,null,null,null,"苗字",{"$f":"C24","v":0},null,11,0,{"$error":"#N/A"},""]
[null,"役員",null,"職名",null,"氏名",null,null,null,null,null,null,null,null,null,null,null,null,null,null,null,null,null,null,null,0,null,12,0,{"$error":"#N/A"},""]
[null,"役員",null,"職名",null,"氏名",null,null,null,null,null,null,null,null,null,null,null,null,null,null,null,null,null,null,null,0,null,13,0,{"$error":"#N/A"},""]
[null,null,null,null,null,null,null,null,null,null,null,null,null,null,null,null,null,null,null,null,null,null,null,null,null,0,null,14,0,{"$error":"#N/A"},""]
[null,"ユニフォーム",null,null,"ＧＫ",1,null,2,null,3,null,null,"（注）部活動指導員ならば任命者も必ず記入してください。",null,null,null,null,null,null,null,null,null,null,null,null,0,null,15,0,{"$error":"#N/A"},""]
[null,null,null,null,"ＣＰ",1,null,2,null,3,null,null,null,null,null,null,null,null,null,null,null,null,null,null,null,0]
[null,null,null,null,null,null,null,null,null,null,null,null,null,null,null,null,null,null,null,null,null,null,null,null,null,0]
[null,"背番号","選手名",null,null,null,"ふりがな",null,null,null,"学年","身長",null,null,"利き腕",null,null,"備　　考",null,null,null,null,null,null,null,0]
[null,"入力例","岡山",null,"太郎",null,"おかやま",null,"たろう",null,3,191,null,null,"両",null,null,null,null,null,null,null,null,null,null,0]
[null,1,null,null,null,null,null,null,null,null,null,null,null,null,null,null,null,{"$f":"IF(V24,\"○\",\"\")","v":""},null,null,null,false,null,null,null,0]
[null,2,null,null,null,null,null,null,null,null,null,null,null,null,null,null,null,{"$f":"IF(V25,\"○\",\"\")","v":""},null,null,null,false,null,null,null,0]
[null,3,null,null,null,null,null,null,null,null,null,null,null,null,null,null,null,"",null,null,null,false,null,null,null,0]
[null,4,null,null,null,null,null,null,null,null,null,null,null,null,null,null,null,"",null,null,null,false,null,null,null,0]
[null,5,null,null,null,null,null,null,null,null,null,null,null,null,null,null,null,"",null,null,null,false,null,null,null,0]
[null,6,null,null,null,null,null,null,null,null,null,null,null,null,null,null,null,"",null,null,null,false,null,null,null,0]
[null,7,null,null,null,null,null,null,null,null,null,null,null,null,null,null,null,"",null,null,null,false,null,null,"名前",{"$f":"E24","v":0}]
[null,8,null,null,null,null,null,null,null,null,null,null,null,null,null,null,null,"",null,null,null,false,null,null,null,0]
[null,9,null,null,null,null,null,null,null,null,null,null,null,null,null,null,null,"",null,null,null,false,null,null,null,0]
[null,10,null,null,null,null,null,null,null,null,null,null,null,null,null,null,null,"",null,null,null,false,null,null,null,0]
[null,11,null,null,null,null,null,null,null,null,null,null,null,null,null,null,null,"",null,null,null,false,null,null,null,0]
[null,12,null,null,null,null,null,null,null,null,null,null,null,null,null,null,null,"",null,null,null,false,null,null,null,0]
[null,13,null,null,null,null,null,null,null,null,null,null,null,null,null,null,null,"",null,null,null,false,null,null,null,0]
[null,14,null,null,null,null,null,null,null,null,null,null,null,null,null,null,null,"",null,null,null,false,null,null,null,0]
[null,15,null,null,null,null,null,null,null,null,null,null,null,null,null,null,null,"",null,null,null,false,null,null,null,0]
[null,null,null,null,null,null,null,null,null,null,null,null,null,null,null,null,null,null,null,null,null,null,null,null,null,0]
[null,"（注）",null,null,null,null,null,null,null,null,null,null,null,null,null,null,null,null,null,null,null,null,null,null,null,0]
[null,"　　　①主将には、備考欄の□をチェックしてください。",null,null,null,null,null,null,null,null,null,null,null,null,null,null,null,null,null,null,null,null,null,null,null,0]
[null,"　　　②ユニフォームの色について、３着持っているチームは３着分を書いてください。",null,null,null,null,null,null,null,null,null,null,null,null,null,null,null,null,null,null,null,null,null,null,null,0]
[null,"　　　③７月８日までにデータをat21211@kurashiki-oky.ed.jpに送り、",null,null,null,null,null,null,null,null,null,null,null,null,null,null,null,null,null,null,null,null,null,null,null,0]
[null,"　　　　印を押した原本を７月８日の抽選会にてご提出ください。",null,null,null,null,null,null,null,null,null,null,null,null,null,null,null,null,null,null,null,null,null,null,null,0]
[null,"　　　④チーム管理者とは、学校・拠点校なら学校長、地域スポーツ団体はチーム代表者とし\n        します。",null,null,null,null,null,null,null,null,null,null,null,null,null,null,null,null,null,null,null,null,null,null,"学年",{"$f":"K24","v":0}]
[null,null,"  ます。",null,null,null,null,null,null,null,null,null,null,null,null,null,null,null,null,null,null,null,null,null,null,{"$f":"K25","v":0}]
[null,"　　　⑤メールアドレスはPC用とし、ファイルの受け取りができるものにしてください。",null,null,null,null,null,null,null,null,null,null,null,null,null,null,null,null,null,null,null,null,null,null,null,0]
[null,null,null,null,null,null,null,null,null,null,null,null,null,null,null,null,null,null,null,null,null,null,null,null,null,0]
[null,"　　上記の通り、標記大会に出場することを認め、参加申込みを致します。また、上記の者は、",null,null,null,null,null,null,null,null,null,null,null,null,null,null,null,null,null,null,null,null,null,null,null,0]
[null,"　本大会の参加申込みに際し、大会要項に記載の内容を確認し、同意を得ています。",null,null,null,null,null,null,null,null,null,null,null,null,null,null,null,null,null,null,null,null,null,null,null,0]
[null,null,null,null,null,null,null,null,null,null,null,null,null,null,null,null,null,null,null,null,null,null,null,null,null,0]
[null,null,null,null,null,null,null,null,null,null,null,null,null,null,null,null,null,null,null,null,null,null,null,null,null,0]
[null,null,null,null,null,null,null,null,null,null,null,null,null,null,null,null,null,null,null,null,null,null,null,null,null,0]
["令和7年",null,null,"月",null,"日","チーム管理者",null,null,null,null,null,null,null,null,null,null,null,null,null,null,"印",null,null,null,0]
[null,null,null,null,null,null,null,null,null,null,null,null,null,null,null,null,null,null,null,null,null,null,null,null,null,0]
[null,null,null,null,null,null,null,null,null,null,null,null,null,null,null,null,null,null,null,null,null,null,null,null,null,0]
[null,null,null,null,null,null,null,null,null,null,null,null,null,null,null,null,null,null,null,null,null,null,null,null,null,0]
[null,null,null,null,null,null,null,null,null,null,"倉敷市立琴浦中学校","琴浦中",null,null,null,null,null,null,null,null,null,null,null,null,null,0]
[null,null,null,null,null,null,null,null,null,null,"倉敷市立東中学校","倉敷東中",null,null,null,null,null,null,null,null,null,null,null,null,null,{"$f":"K38","v":0}]
[null,null,null,null,null,null,null,null,null,null,"倉敷市立北中学校","倉敷北中"]
[null,null,null,null,null,null,null,null,null,null,"倉敷市立南中学校","倉敷南中"]
[null,null,null,null,null,null,null,null,null,null,"倉敷市立福田南中学校","福田南中"]
[null,null,null,null,null,null,null,null,null,null,"倉敷市立多津美中学校","多津美中"]
[null,null,null,null,null,null,null,null,null,null,"倉敷市立下津井中学校","下津井中"]
[null,null,null,null,null,null,null,null,null,null,"岡山県立倉敷天城中学校","倉敷天城中"]
[null,null,null,null,null,null,null,null,null,null,"総社市立総社西中学校","総社西中"]
[null,null,null,null,null,null,null,null,null,null,"岡山市立操南中学校","操南中"]
[null,null,null,null,null,null,null,null,null,null,"真庭市立落合中学校","落合中"]
[]
[]
[]
[]
[]
[]
[]
[]
[]
[]
[]
[]
[]
[]
[]
[]
[]
[]
[]
[]
[]
[]
[]
[]
[]
[]
[]
[]
[]
[]
[]
[]
[]
[null,{"$f":"IF(V24,\"○\",\"\")","v":""}]
[null,{"$f":"IF(V25,\"○\",\"\")","v":""}]
[null,""]
[null,""]
[null,""]
[null,""]
[null,""]
[null,""]
[null,""]
[null,""]
[null,""]
[null,""]
[null,""]
[null,""]
[null,""]

{"sheet":"プログラム","index":1,"n_rows":36,"n_cols":26,"rows_kept":36,"cut":false,"hidden":false,"merged":[[22,1,23,1],[20,9,21,9],[28,10,29,11],[29,3,29,4],[22,3,22,4],[20,1,21,1],[27,6,27,7],[23,6,23,7],[25,6,25,7],[22,10,23,11],[24,10,25,11],[25,3,25,4],[26,9,27,9],[22,9,23,9],[20,6,20,7],[20,10,21,11],[28,3,28,4],[26,3,26,4],[24,6,24,7],[24,3,24,4],[21,3,21,4],[22,6,22,7],[34,1,35,1],[32,1,33,1],[30,1,31,1],[24,14,25,14],[24,9,25,9],[32,10,33,11],[34,10,35,11],[29,16,29,17],[27,16,27,17],[28,12,29,13],[26,10,27,11],[30,3,30,4],[30,12,31,13],[30,6,30,7],[27,3,27,4],[28,1,29,1],[26,1,27,1],[24,1,25,1],[28,14,29,14],[26,14,27,14],[35,3,35,4],[33,3,33,4],[31,3,31,4],[31,6,31,7],[20,19,20,20],[20,16,20,17],[24,19,24,20],[23,19,23,20],[22,16,22,17],[22,19,22,20],[30,10,31,11],[33,19,33,20],[31,19,31,20],[30,19,30,20],[32,19,32,20],[33,16,33,17],[31,16,31,17],[30,14,31,14],[30,16,30,17],[32,12,33,13],[26,12,27,13],[22,12,23,13],[24,12,25,13],[27,19,27,20],[28,19,28,20],[21,19,21,20],[29,19,29,20],[22,14,23,14],[20,25,21,26],[20,23,21,24],[32,22,33,22],[24,25,25,26],[24,23,25,24],[28,23,29,24],[28,22,29,22],[30,22,31,22],[22,23,23,24],[22,25,23,26],[32,23,33,24],[20,22,21,22],[22,22,23,22],[24,22,25,22],[26,22,27,22],[34,3,34,4],[32,3,32,4],[32,6,32,7],[35,6,35,7],[34,9,35,9],[32,9,33,9],[30,9,31,9],[26,19,26,20],[25,19,25,20],[34,14,35,26],[32,14,33,14],[32,16,32,17],[34,12,35,13],[25,16,25,17],[32,25,33,26],[30,25,31,26],[30,23,31,24],[28,6,28,7],[26,6,26,7],[33,6,33,7],[34,6,34,7],[26,23,27,24],[28,25,29,26],[26,25,27,26],[23,16,23,17],[28,9,29,9],[23,3,23,4],[28,16,28,17],[29,6,29,7],[26,16,26,17],[24,16,24,17],[20,12,21,13],[21,6,21,7],[21,16,21,17],[20,3,20,4],[20,14,21,14],[17,14,17,16],[19,16,19,20],[18,14,18,16],[18,17,18,19],[17,20,17,22],[18,20,18,22],[19,12,19,13],[18,12,18,13],[17,12,17,13],[17,17,17,19],[2,6,2,23],[1,3,1,7],[16,7,16,13],[16,14,16,19],[19,25,19,26],[19,23,19,24],[17,25,17,26],[18,25,18,26],[17,23,17,24],[18,23,18,24],[4,2,13,25],[1,8,1,17],[1,19,1,26],[17,7,17,11],[19,3,19,7],[17,1,18,6],[19,10,19,11],[18,7,18,11],[15,20,15,26],[16,20,16,26],[15,14,15,19],[15,1,15,6],[16,1,16,6],[15,7,15,13]]}
[]
[null,null,null,"ブロック",null,null,null,null,{"$f":"申込書!D4","v":0},null,null,null,null,null,null,null,null,null,"/",{"$f":"申込書!K4","v":0}]
[null,null,null,"チーム名",null,null,{"$f":"申込書!D7","v":0}]
[]
[null,null,"　　　　　　　　　　　　　　＊写真データは、２メガバイト以上のJPGデータを送付願います。\n　　　　　　　　　　　　　　　２メガ以下の場合、不鮮明になる場合があります。\n　　　　　　　　　　　　　　＊データはエクセルに貼り付けることもできますが、原則として\n　　　　　　　　　　　　　　　申込時に加工（サイズ変更など）しないデータも必ず添付願います。\n"]
[]
[]
[]
[]
[]
[]
[]
[]
[]
[]
[null,"監　　　督",null,null,null,null,null,{"$f":"申込書!E14","v":0},null,null,null,null,null,null,"役　　　員",null,null,null,null,null,{"$f":"申込書!G15","v":0}]
[null,"役　　　員",null,null,null,null,null,{"$f":"申込書!G16","v":0},null,null,null,null,null,null,"役　　　員",null,null,null,null,null,{"$f":"申込書!G17","v":0}]
[null,"ユニフォーム",null,null,null,null,null,"Ｇ　　Ｋ",null,null,null,null,"１",null,{"$f":"申込書!G19","v":0},null,null,"２",null,null,{"$f":"申込書!I19","v":0},null,null,"３",null,{"$f":"申込書!K19","v":0}]
[null,null,null,null,null,null,null,"Ｃ　　Ｐ",null,null,null,null,"１",null,{"$f":"申込書!G20","v":0},null,null,"２",null,null,{"$f":"申込書!I20","v":0},null,null,"３",null,{"$f":"申込書!K20","v":0}]
[null,"番号",null,"選　手　氏　名",null,null,null,null,null,"学年","身　　長",null,"利　き　腕",null,"番号",null,"選　手　氏　名",null,null,null,null,null,"学年","身　　長",null,"利　き　腕"]
[null,"１",null,{"$f":"申込書!G24","v":0},null,null,{"$f":"申込書!I24","v":0},null,null,{"$f":"申込書!K24","v":0},{"$f":"申込書!L24","v":0},null,{"$f":"申込書!O24","v":0},null,"９",null,{"$f":"申込書!G32","v":0},null,null,{"$f":"申込書!I32","v":0},null,null,{"$f":"申込書!K32","v":0},{"$f":"申込書!L32","v":0},null,{"$f":"申込書!O32","v":0}]
[null,null,null,{"$f":"申込書!C24","v":0},null,null,{"$f":"申込書!E24","v":0},null,null,null,null,null,null,null,null,null,{"$f":"申込書!C32","v":0},null,null,{"$f":"申込書!E32","v":0}]
[null,"２",null,{"$f":"申込書!G25","v":0},null,null,{"$f":"申込書!I25","v":0},null,null,{"$f":"申込書!K25","v":0},{"$f":"申込書!L25","v":0},null,{"$f":"申込書!O25","v":0},null,"１０",null,{"$f":"申込書!G33","v":0},null,null,{"$f":"申込書!I33","v":0},null,null,{"$f":"申込書!K33","v":0},{"$f":"申込書!L33","v":0},null,{"$f":"申込書!O33","v":0}]
[null,null,null,{"$f":"申込書!C25","v":0},null,null,{"$f":"申込書!E25","v":0},null,null,null,null,null,null,null,null,null,{"$f":"申込書!C33","v":0},null,null,{"$f":"申込書!E33","v":0}]
[null,"３",null,{"$f":"申込書!G26","v":0},null,null,{"$f":"申込書!I26","v":0},null,null,{"$f":"申込書!K26","v":0},{"$f":"申込書!L26","v":0},null,{"$f":"申込書!O26","v":0},null,"１１",null,{"$f":"申込書!G34","v":0},null,null,{"$f":"申込書!I34","v":0},null,null,{"$f":"申込書!K34","v":0},{"$f":"申込書!L34","v":0},null,{"$f":"申込書!O34","v":0}]
[null,null,null,{"$f":"申込書!C26","v":0},null,null,{"$f":"申込書!E26","v":0},null,null,null,null,null,null,null,null,null,{"$f":"申込書!C34","v":0},null,null,{"$f":"申込書!E34","v":0}]
[null,"４",null,{"$f":"申込書!G27","v":0},null,null,{"$f":"申込書!I27","v":0},null,null,{"$f":"申込書!K27","v":0},{"$f":"申込書!L27","v":0},null,{"$f":"申込書!O27","v":0},null,"１２",null,{"$f":"申込書!G35","v":0},null,null,{"$f":"申込書!I35","v":0},null,null,{"$f":"申込書!K35","v":0},{"$f":"申込書!L35","v":0},null,{"$f":"申込書!O35","v":0}]
[null,null,null,{"$f":"申込書!C27","v":0},null,null,{"$f":"申込書!E27","v":0},null,null,null,null,null,null,null,null,null,{"$f":"申込書!C35","v":0},null,null,{"$f":"申込書!E35","v":0}]
[null,"５",null,{"$f":"申込書!G28","v":0},null,null,{"$f":"申込書!I28","v":0},null,null,{"$f":"申込書!K28","v":0},{"$f":"申込書!L28","v":0},null,{"$f":"申込書!O28","v":0},null,"１３",null,{"$f":"申込書!G36","v":0},null,null,{"$f":"申込書!I36","v":0},null,null,{"$f":"申込書!K36","v":0},{"$f":"申込書!L36","v":0},null,{"$f":"申込書!O36","v":0}]
[null,null,null,{"$f":"申込書!C28","v":0},null,null,{"$f":"申込書!E28","v":0},null,null,null,null,null,null,null,null,null,{"$f":"申込書!C36","v":0},null,null,{"$f":"申込書!E36","v":0}]
[null,"６",null,{"$f":"申込書!G29","v":0},null,null,{"$f":"申込書!I29","v":0},null,null,{"$f":"申込書!K29","v":0},{"$f":"申込書!L29","v":0},null,{"$f":"申込書!O29","v":0},null,"１４",null,{"$f":"申込書!G37","v":0},null,null,{"$f":"申込書!I37","v":0},null,null,{"$f":"申込書!K37","v":0},{"$f":"申込書!L37","v":0},null,{"$f":"申込書!O37","v":0}]
[null,null,null,{"$f":"申込書!C29","v":0},null,null,{"$f":"申込書!E29","v":0},null,null,null,null,null,null,null,null,null,{"$f":"申込書!C37","v":0},null,null,{"$f":"申込書!E37","v":0}]
[null,"７",null,{"$f":"申込書!G30","v":0},null,null,{"$f":"申込書!I30","v":0},null,null,{"$f":"申込書!K30","v":0},{"$f":"申込書!L30","v":0},null,{"$f":"申込書!O30","v":0},null,"１５",null,{"$f":"申込書!G38","v":0},null,null,{"$f":"申込書!I38","v":0},null,null,{"$f":"申込書!K38","v":0},{"$f":"申込書!L38","v":0},null,{"$f":"申込書!O38","v":0}]
[null,null,null,{"$f":"申込書!C30","v":0},null,null,{"$f":"申込書!E30","v":0},null,null,null,null,null,null,null,null,null,{"$f":"申込書!C38","v":0},null,null,{"$f":"申込書!E38","v":0}]
[null,"８",null,{"$f":"申込書!G31","v":0},null,null,{"$f":"申込書!I31","v":0},null,null,{"$f":"申込書!K31","v":0},{"$f":"申込書!L31","v":0},null,{"$f":"申込書!O31","v":0}]
[null,null,null,{"$f":"申込書!C31","v":0},null,null,{"$f":"申込書!E31","v":0}]